Package: MWASTools Version: 1.34.0 Command: /home/biocbuild/bbs-3.22-bioc/R/bin/R CMD build --keep-empty-dirs --no-resave-data --md5 MWASTools StartedAt: 2025-11-17 22:22:19 -0500 (Mon, 17 Nov 2025) EndedAt: 2025-11-17 22:23:30 -0500 (Mon, 17 Nov 2025) EllapsedTime: 71.0 seconds RetCode: 0 Status: OK PackageFile: MWASTools_1.34.0.tar.gz PackageFileSize: 2.654 MiB