Package: MVCClass Version: 1.83.0 Command: /home/biocbuild/R/R/bin/R CMD INSTALL MVCClass StartedAt: 2025-10-23 20:21:24 -0000 (Thu, 23 Oct 2025) EndedAt: 2025-10-23 20:21:54 -0000 (Thu, 23 Oct 2025) EllapsedTime: 30.3 seconds RetCode: 0 Status: OK