Package: MVCClass Version: 1.83.0 Command: /home/biocbuild/R/R/bin/R CMD build --keep-empty-dirs --no-resave-data MVCClass StartedAt: 2025-10-21 01:38:56 -0000 (Tue, 21 Oct 2025) EndedAt: 2025-10-21 01:39:03 -0000 (Tue, 21 Oct 2025) EllapsedTime: 7.0 seconds RetCode: 0 Status: OK PackageFile: MVCClass_1.83.0.tar.gz PackageFileSize: 1.028 MiB