Package: MVCClass Version: 1.83.0 Command: /home/biocbuild/bbs-3.22-bioc/R/bin/R CMD INSTALL MVCClass StartedAt: 2025-10-24 15:16:06 -0400 (Fri, 24 Oct 2025) EndedAt: 2025-10-24 15:16:21 -0400 (Fri, 24 Oct 2025) EllapsedTime: 14.7 seconds RetCode: 0 Status: OK