Package: MVCClass Version: 1.83.0 Command: /Library/Frameworks/R.framework/Resources/bin/R CMD INSTALL MVCClass StartedAt: 2025-10-24 15:15:35 -0400 (Fri, 24 Oct 2025) EndedAt: 2025-10-24 15:16:28 -0400 (Fri, 24 Oct 2025) EllapsedTime: 53.0 seconds RetCode: 0 Status: OK