Package: MSstatsTMT Version: 2.18.0 Command: /home/biocbuild/bbs-3.22-bioc/R/bin/R CMD build --keep-empty-dirs --no-resave-data --md5 MSstatsTMT StartedAt: 2025-11-13 19:00:28 -0500 (Thu, 13 Nov 2025) EndedAt: 2025-11-13 19:01:28 -0500 (Thu, 13 Nov 2025) EllapsedTime: 60.1 seconds RetCode: 0 Status: OK PackageFile: MSstatsTMT_2.18.0.tar.gz PackageFileSize: 1.534 MiB