Package: MSstatsQCgui Version: 1.30.0 Command: /home/biocbuild/bbs-3.22-bioc/R/bin/R CMD INSTALL MSstatsQCgui StartedAt: 2025-11-16 15:39:33 -0500 (Sun, 16 Nov 2025) EndedAt: 2025-11-16 15:40:16 -0500 (Sun, 16 Nov 2025) EllapsedTime: 42.8 seconds RetCode: 0 Status: OK