Package: MSstatsQCgui Version: 1.30.0 Command: /home/biocbuild/bbs-3.22-bioc/R/bin/R CMD build --keep-empty-dirs --no-resave-data --md5 MSstatsQCgui StartedAt: 2025-11-14 19:00:26 -0500 (Fri, 14 Nov 2025) EndedAt: 2025-11-14 19:01:09 -0500 (Fri, 14 Nov 2025) EllapsedTime: 43.0 seconds RetCode: 0 Status: OK PackageFile: MSstatsQCgui_1.30.0.tar.gz PackageFileSize: 76.17 KiB