Package: MSstatsQC Version: 2.28.0 Command: /home/biocbuild/bbs-3.22-bioc/R/bin/R CMD INSTALL MSstatsQC StartedAt: 2025-10-30 15:42:03 -0400 (Thu, 30 Oct 2025) EndedAt: 2025-10-30 15:42:43 -0400 (Thu, 30 Oct 2025) EllapsedTime: 40.1 seconds RetCode: 0 Status: OK