Package: MSstatsPTM Version: 2.12.0 Command: /home/biocbuild/bbs-3.22-bioc/R/bin/R CMD INSTALL MSstatsPTM StartedAt: 2025-11-14 15:27:15 -0500 (Fri, 14 Nov 2025) EndedAt: 2025-11-14 15:27:45 -0500 (Fri, 14 Nov 2025) EllapsedTime: 29.2 seconds RetCode: 0 Status: OK