Package: MSstatsLiP Version: 1.16.0 Command: /home/biocbuild/bbs-3.22-bioc/R/bin/R CMD INSTALL MSstatsLiP StartedAt: 2025-11-17 17:18:24 -0500 (Mon, 17 Nov 2025) EndedAt: 2025-11-17 17:18:48 -0500 (Mon, 17 Nov 2025) EllapsedTime: 24.3 seconds RetCode: 0 Status: OK