Package: MSstatsLOBD Version: 1.18.0 Command: /home/biocbuild/bbs-3.22-bioc/R/bin/R CMD INSTALL MSstatsLOBD StartedAt: 2025-11-06 15:07:55 -0500 (Thu, 06 Nov 2025) EndedAt: 2025-11-06 15:08:09 -0500 (Thu, 06 Nov 2025) EllapsedTime: 13.5 seconds RetCode: 0 Status: OK