Package: MSstatsConvert Version: 1.20.0 Command: /home/biocbuild/bbs-3.22-bioc/R/bin/R CMD INSTALL MSstatsConvert StartedAt: 2025-11-16 15:03:31 -0500 (Sun, 16 Nov 2025) EndedAt: 2025-11-16 15:03:54 -0500 (Sun, 16 Nov 2025) EllapsedTime: 22.6 seconds RetCode: 0 Status: OK