Package: MSstatsBioNet Version: 1.2.0 Command: /Library/Frameworks/R.framework/Resources/bin/R CMD INSTALL MSstatsBioNet StartedAt: 2025-11-03 15:20:54 -0500 (Mon, 03 Nov 2025) EndedAt: 2025-11-03 15:21:22 -0500 (Mon, 03 Nov 2025) EllapsedTime: 28.2 seconds RetCode: 0 Status: OK