Package: MSstatsBioNet Version: 1.2.0 Command: /Library/Frameworks/R.framework/Resources/bin/R CMD build --keep-empty-dirs --no-resave-data MSstatsBioNet StartedAt: 2025-11-03 17:56:43 -0500 (Mon, 03 Nov 2025) EndedAt: 2025-11-03 17:57:21 -0500 (Mon, 03 Nov 2025) EllapsedTime: 37.7 seconds RetCode: 0 Status: OK PackageFile: MSstatsBioNet_1.2.0.tar.gz PackageFileSize: 507.9 KiB