Package: MSstatsBioNet Version: 1.2.0 Command: rm -rf MSstatsBioNet.buildbin-libdir && mkdir MSstatsBioNet.buildbin-libdir && /Users/biocbuild/BBS/utils/build-universal.sh MSstatsBioNet_1.2.0.tar.gz /Library/Frameworks/R.framework/Resources/bin/R MSstatsBioNet.buildbin-libdir StartedAt: 2025-11-04 01:52:05 -0500 (Tue, 04 Nov 2025) EndedAt: 2025-11-04 01:52:27 -0500 (Tue, 04 Nov 2025) EllapsedTime: 22.0 seconds RetCode: 0 Status: OK PackageFile: MSstatsBioNet_1.2.0.tgz PackageFileSize: 574.5 KiB