Package: MSstatsBioNet Version: 1.1.7 Command: /Library/Frameworks/R.framework/Resources/bin/R CMD INSTALL MSstatsBioNet StartedAt: 2025-10-24 15:34:03 -0400 (Fri, 24 Oct 2025) EndedAt: 2025-10-24 15:34:09 -0400 (Fri, 24 Oct 2025) EllapsedTime: 6.3 seconds RetCode: 0 Status: OK