Package: MSstatsBioNet Version: 1.1.7 Command: /Library/Frameworks/R.framework/Resources/bin/R CMD build --keep-empty-dirs --no-resave-data MSstatsBioNet StartedAt: 2025-10-24 17:10:12 -0400 (Fri, 24 Oct 2025) EndedAt: 2025-10-24 17:10:25 -0400 (Fri, 24 Oct 2025) EllapsedTime: 13.2 seconds RetCode: 0 Status: OK PackageFile: MSstatsBioNet_1.1.7.tar.gz PackageFileSize: 508.1 KiB