Package: MSstatsBioNet Version: 1.1.7 Command: rm -rf MSstatsBioNet.buildbin-libdir && mkdir MSstatsBioNet.buildbin-libdir && /Users/biocbuild/BBS/utils/build-universal.sh MSstatsBioNet_1.1.7.tar.gz /Library/Frameworks/R.framework/Resources/bin/R MSstatsBioNet.buildbin-libdir StartedAt: 2025-10-24 23:11:31 -0400 (Fri, 24 Oct 2025) EndedAt: 2025-10-24 23:11:38 -0400 (Fri, 24 Oct 2025) EllapsedTime: 7.1 seconds RetCode: 0 Status: OK PackageFile: MSstatsBioNet_1.1.7.tgz PackageFileSize: 576 KiB