Package: MSstatsBioNet Version: 1.2.0 Maintainer: Anthony Wu MaintainerEmail: wu.anthon at northeastern.edu git_url: https://git.bioconductor.org/packages/MSstatsBioNet git_branch: RELEASE_3_22 git_last_commit: 21e0165 git_last_commit_date: 2025-10-29 11:34:35 -0500 (Wed, 29 Oct 2025)