Package: MSstats Version: 4.18.0 Command: /home/biocbuild/bbs-3.22-bioc/R/bin/R CMD INSTALL MSstats StartedAt: 2025-11-13 15:12:07 -0500 (Thu, 13 Nov 2025) EndedAt: 2025-11-13 15:12:50 -0500 (Thu, 13 Nov 2025) EllapsedTime: 43.4 seconds RetCode: 0 Status: OK