Package: MSnbase Version: 2.35.2 Command: /home/biocbuild/bbs-3.22-bioc/R/bin/R CMD build --keep-empty-dirs --no-resave-data --md5 MSnbase StartedAt: 2025-10-24 19:02:19 -0400 (Fri, 24 Oct 2025) EndedAt: 2025-10-24 19:05:27 -0400 (Fri, 24 Oct 2025) EllapsedTime: 188.2 seconds RetCode: 0 Status: OK PackageFile: MSnbase_2.35.2.tar.gz PackageFileSize: 7.628 MiB