Package: MSA2dist Version: 1.13.0 Command: /home/biocbuild/bbs-3.22-bioc/R/bin/R CMD INSTALL MSA2dist StartedAt: 2025-10-24 16:01:36 -0400 (Fri, 24 Oct 2025) EndedAt: 2025-10-24 16:02:42 -0400 (Fri, 24 Oct 2025) EllapsedTime: 66.3 seconds RetCode: 0 Status: OK