Package: MOSim Version: 2.5.0 Command: /home/biocbuild/bbs-3.22-bioc/R/bin/R CMD build --keep-empty-dirs --no-resave-data --md5 MOSim StartedAt: 2025-10-24 18:57:50 -0400 (Fri, 24 Oct 2025) EndedAt: 2025-10-24 19:04:02 -0400 (Fri, 24 Oct 2025) EllapsedTime: 372.3 seconds RetCode: 0 Status: OK PackageFile: MOSim_2.5.0.tar.gz PackageFileSize: 6.387 MiB