Package: MOSim Version: 2.6.0 Command: /Library/Frameworks/R.framework/Resources/bin/R CMD build --keep-empty-dirs --no-resave-data MOSim StartedAt: 2025-11-10 17:06:15 -0500 (Mon, 10 Nov 2025) EndedAt: 2025-11-10 17:08:54 -0500 (Mon, 10 Nov 2025) EllapsedTime: 158.8 seconds RetCode: 0 Status: OK PackageFile: MOSim_2.6.0.tar.gz PackageFileSize: 6.395 MiB