Package: MOSClip Version: 1.4.0 Command: /Library/Frameworks/R.framework/Resources/bin/R CMD INSTALL MOSClip StartedAt: 2025-10-31 15:27:07 -0400 (Fri, 31 Oct 2025) EndedAt: 2025-10-31 15:27:27 -0400 (Fri, 31 Oct 2025) EllapsedTime: 19.7 seconds RetCode: 0 Status: OK