Package: MOSClip Version: 1.4.0 Command: /Library/Frameworks/R.framework/Resources/bin/R CMD build --keep-empty-dirs --no-resave-data MOSClip StartedAt: 2025-10-31 17:08:52 -0400 (Fri, 31 Oct 2025) EndedAt: 2025-10-31 17:09:28 -0400 (Fri, 31 Oct 2025) EllapsedTime: 36.4 seconds RetCode: 0 Status: OK PackageFile: MOSClip_1.4.0.tar.gz PackageFileSize: 2.123 MiB