Package: MOSClip Version: 1.4.0 Command: rm -rf MOSClip.buildbin-libdir && mkdir MOSClip.buildbin-libdir && /Users/biocbuild/BBS/utils/build-universal.sh MOSClip_1.4.0.tar.gz /Library/Frameworks/R.framework/Resources/bin/R MOSClip.buildbin-libdir StartedAt: 2025-11-02 23:12:40 -0500 (Sun, 02 Nov 2025) EndedAt: 2025-11-02 23:13:01 -0500 (Sun, 02 Nov 2025) EllapsedTime: 21.3 seconds RetCode: 0 Status: OK PackageFile: MOSClip_1.4.0.tgz PackageFileSize: 2.415 MiB