Package: MOMA Version: 1.22.0 Command: /home/biocbuild/bbs-3.22-bioc/R/bin/R CMD INSTALL MOMA StartedAt: 2025-11-16 15:21:11 -0500 (Sun, 16 Nov 2025) EndedAt: 2025-11-16 15:21:45 -0500 (Sun, 16 Nov 2025) EllapsedTime: 33.3 seconds RetCode: 0 Status: OK