Package: MOGAMUN Version: 1.20.0 Command: /home/biocbuild/bbs-3.22-bioc/R/bin/R CMD INSTALL MOGAMUN StartedAt: 2025-10-31 15:21:49 -0400 (Fri, 31 Oct 2025) EndedAt: 2025-10-31 15:21:55 -0400 (Fri, 31 Oct 2025) EllapsedTime: 6.6 seconds RetCode: 0 Status: OK