Package: MOGAMUN Version: 1.20.0 Command: /home/biocbuild/bbs-3.22-bioc/R/bin/R CMD build --keep-empty-dirs --no-resave-data --md5 MOGAMUN StartedAt: 2025-10-31 18:56:57 -0400 (Fri, 31 Oct 2025) EndedAt: 2025-10-31 18:57:12 -0400 (Fri, 31 Oct 2025) EllapsedTime: 15.0 seconds RetCode: 0 Status: OK PackageFile: MOGAMUN_1.20.0.tar.gz PackageFileSize: 126.8 KiB