Package: MMDiff2 Version: 1.37.1 Command: /home/biocbuild/bbs-3.22-bioc/R/bin/R CMD INSTALL MMDiff2 StartedAt: 2025-10-28 15:27:36 -0400 (Tue, 28 Oct 2025) EndedAt: 2025-10-28 15:28:13 -0400 (Tue, 28 Oct 2025) EllapsedTime: 37.7 seconds RetCode: 0 Status: OK