Package: MMDiff2 Version: 1.37.1 Command: /home/biocbuild/bbs-3.22-bioc/R/bin/R CMD build --keep-empty-dirs --no-resave-data --md5 MMDiff2 StartedAt: 2025-10-28 18:44:27 -0400 (Tue, 28 Oct 2025) EndedAt: 2025-10-28 18:46:01 -0400 (Tue, 28 Oct 2025) EllapsedTime: 94.1 seconds RetCode: 0 Status: OK PackageFile: MMDiff2_1.37.1.tar.gz PackageFileSize: 2.85 MiB