Package: MMDiff2 Version: 1.38.0 Command: /Library/Frameworks/R.framework/Resources/bin/R CMD INSTALL MMDiff2 StartedAt: 2025-11-03 15:35:46 -0500 (Mon, 03 Nov 2025) EndedAt: 2025-11-03 15:36:37 -0500 (Mon, 03 Nov 2025) EllapsedTime: 50.6 seconds RetCode: 0 Status: OK