Package: MMDiff2 Version: 1.38.0 Command: rm -rf MMDiff2.buildbin-libdir && mkdir MMDiff2.buildbin-libdir && /Users/biocbuild/BBS/utils/build-universal.sh MMDiff2_1.38.0.tar.gz /Library/Frameworks/R.framework/Resources/bin/R MMDiff2.buildbin-libdir StartedAt: 2025-11-04 01:50:38 -0500 (Tue, 04 Nov 2025) EndedAt: 2025-11-04 01:51:33 -0500 (Tue, 04 Nov 2025) EllapsedTime: 54.3 seconds RetCode: 0 Status: OK PackageFile: MMDiff2_1.38.0.tgz PackageFileSize: 3.055 MiB