Package: MLSeq Version: 2.27.0 Command: /home/biocbuild/bbs-3.22-bioc/R/bin/R CMD INSTALL MLSeq StartedAt: 2025-10-24 15:32:21 -0400 (Fri, 24 Oct 2025) EndedAt: 2025-10-24 15:32:54 -0400 (Fri, 24 Oct 2025) EllapsedTime: 33.1 seconds RetCode: 0 Status: OK