Package: MLSeq Version: 2.27.0 Command: /home/biocbuild/bbs-3.22-bioc/R/bin/R CMD build --keep-empty-dirs --no-resave-data --md5 MLSeq StartedAt: 2025-10-24 18:54:22 -0400 (Fri, 24 Oct 2025) EndedAt: 2025-10-24 18:55:59 -0400 (Fri, 24 Oct 2025) EllapsedTime: 97.1 seconds RetCode: 0 Status: OK PackageFile: MLSeq_2.27.0.tar.gz PackageFileSize: 641.2 KiB