Package: MLSeq Version: 2.28.0 Command: /Library/Frameworks/R.framework/Resources/bin/R CMD INSTALL MLSeq StartedAt: 2025-11-10 15:13:40 -0500 (Mon, 10 Nov 2025) EndedAt: 2025-11-10 15:13:53 -0500 (Mon, 10 Nov 2025) EllapsedTime: 13.0 seconds RetCode: 0 Status: OK