Package: MLSeq Version: 2.28.0 Command: /Library/Frameworks/R.framework/Resources/bin/R CMD build --keep-empty-dirs --no-resave-data MLSeq StartedAt: 2025-11-10 17:03:59 -0500 (Mon, 10 Nov 2025) EndedAt: 2025-11-10 17:04:45 -0500 (Mon, 10 Nov 2025) EllapsedTime: 45.5 seconds RetCode: 0 Status: OK PackageFile: MLSeq_2.28.0.tar.gz PackageFileSize: 599.1 KiB