Package: MLP Version: 1.58.0 Command: /home/biocbuild/bbs-3.22-bioc/R/bin/R CMD INSTALL MLP StartedAt: 2025-11-02 15:44:59 -0500 (Sun, 02 Nov 2025) EndedAt: 2025-11-02 15:45:15 -0500 (Sun, 02 Nov 2025) EllapsedTime: 16.4 seconds RetCode: 0 Status: OK