Package: MLInterfaces Version: 1.89.2 Command: /home/biocbuild/bbs-3.22-bioc/R/bin/R CMD INSTALL MLInterfaces StartedAt: 2025-10-24 15:39:04 -0400 (Fri, 24 Oct 2025) EndedAt: 2025-10-24 15:39:34 -0400 (Fri, 24 Oct 2025) EllapsedTime: 30.0 seconds RetCode: 0 Status: OK