Package: MLInterfaces Version: 1.90.0 Command: /Library/Frameworks/R.framework/Resources/bin/R CMD INSTALL MLInterfaces StartedAt: 2025-11-06 15:13:04 -0500 (Thu, 06 Nov 2025) EndedAt: 2025-11-06 15:13:17 -0500 (Thu, 06 Nov 2025) EllapsedTime: 12.6 seconds RetCode: 0 Status: OK