Package: MLInterfaces Version: 1.90.0 Command: /Library/Frameworks/R.framework/Resources/bin/R CMD build --keep-empty-dirs --no-resave-data MLInterfaces StartedAt: 2025-11-06 17:03:14 -0500 (Thu, 06 Nov 2025) EndedAt: 2025-11-06 17:03:44 -0500 (Thu, 06 Nov 2025) EllapsedTime: 30.3 seconds RetCode: 0 Status: OK PackageFile: MLInterfaces_1.90.0.tar.gz PackageFileSize: 2.808 MiB