Package: MLInterfaces Version: 1.90.0 Command: rm -rf MLInterfaces.buildbin-libdir && mkdir MLInterfaces.buildbin-libdir && /Users/biocbuild/BBS/utils/build-universal.sh MLInterfaces_1.90.0.tar.gz /Library/Frameworks/R.framework/Resources/bin/R MLInterfaces.buildbin-libdir StartedAt: 2025-11-09 23:15:31 -0500 (Sun, 09 Nov 2025) EndedAt: 2025-11-09 23:15:44 -0500 (Sun, 09 Nov 2025) EllapsedTime: 13.2 seconds RetCode: 0 Status: OK PackageFile: MLInterfaces_1.90.0.tgz PackageFileSize: 3.218 MiB