Package: MICSQTL Version: 1.8.0 Command: /home/biocbuild/bbs-3.22-bioc/R/bin/R CMD INSTALL MICSQTL StartedAt: 2025-10-29 21:50:59 -0400 (Wed, 29 Oct 2025) EndedAt: 2025-10-29 21:51:29 -0400 (Wed, 29 Oct 2025) EllapsedTime: 29.4 seconds RetCode: 0 Status: OK