Package: MEB Version: 1.24.0 Command: /home/biocbuild/bbs-3.22-bioc/R/bin/R CMD INSTALL MEB StartedAt: 2025-11-17 18:13:33 -0500 (Mon, 17 Nov 2025) EndedAt: 2025-11-17 18:14:04 -0500 (Mon, 17 Nov 2025) EllapsedTime: 30.8 seconds RetCode: 0 Status: OK