Package: MEB Version: 1.24.0 Command: /home/biocbuild/bbs-3.22-bioc/R/bin/R CMD build --keep-empty-dirs --no-resave-data --md5 MEB StartedAt: 2025-11-17 21:53:40 -0500 (Mon, 17 Nov 2025) EndedAt: 2025-11-17 21:54:25 -0500 (Mon, 17 Nov 2025) EllapsedTime: 45.0 seconds RetCode: 0 Status: OK PackageFile: MEB_1.24.0.tar.gz PackageFileSize: 1.021 MiB