Package: MEAT Version: 1.22.0 Command: /home/biocbuild/bbs-3.22-bioc/R/bin/R CMD INSTALL MEAT StartedAt: 2025-11-17 18:21:30 -0500 (Mon, 17 Nov 2025) EndedAt: 2025-11-17 18:22:18 -0500 (Mon, 17 Nov 2025) EllapsedTime: 47.7 seconds RetCode: 0 Status: OK