Package: MEAT Version: 1.22.0 Command: /home/biocbuild/bbs-3.22-bioc/R/bin/R CMD build --keep-empty-dirs --no-resave-data --md5 MEAT StartedAt: 2025-11-17 21:53:40 -0500 (Mon, 17 Nov 2025) EndedAt: 2025-11-17 21:55:03 -0500 (Mon, 17 Nov 2025) EllapsedTime: 83.1 seconds RetCode: 0 Status: OK PackageFile: MEAT_1.22.0.tar.gz PackageFileSize: 4.976 MiB