Package: MEAL Version: 1.40.0 Command: /home/biocbuild/bbs-3.22-bioc/R/bin/R CMD INSTALL MEAL StartedAt: 2025-11-20 16:58:32 -0500 (Thu, 20 Nov 2025) EndedAt: 2025-11-20 16:59:13 -0500 (Thu, 20 Nov 2025) EllapsedTime: 40.3 seconds RetCode: 0 Status: OK